BEGIN:VCALENDAR
VERSION:2.0
PRODID:-//Tom Harris PUR Consulting, LLC - ECPv6.15.20//NONSGML v1.0//EN
CALSCALE:GREGORIAN
METHOD:PUBLISH
X-ORIGINAL-URL:https://letstalkpur.com
X-WR-CALDESC:Events for Tom Harris PUR Consulting, LLC
REFRESH-INTERVAL;VALUE=DURATION:PT1H
X-Robots-Tag:noindex
X-PUBLISHED-TTL:PT1H
BEGIN:VTIMEZONE
TZID:UTC
BEGIN:STANDARD
TZOFFSETFROM:+0000
TZOFFSETTO:+0000
TZNAME:UTC
DTSTART:20250101T000000
END:STANDARD
END:VTIMEZONE
BEGIN:VEVENT
DTSTART;TZID=UTC:20260702T080000
DTEND;TZID=UTC:20260702T120000
DTSTAMP:20260419T224450
CREATED:20250528T151946Z
LAST-MODIFIED:20260105T192541Z
UID:2228-1782979200-1782993600@letstalkpur.com
SUMMARY:June BEAT Roof Energy Auditor Training
DESCRIPTION:
URL:https://letstalkpur.com/event/june-beat-roof-energy-auditor-training/
END:VEVENT
END:VCALENDAR