BEGIN:VCALENDAR
VERSION:2.0
PRODID:-//Tom Harris PUR Consulting, LLC - ECPv6.15.20//NONSGML v1.0//EN
CALSCALE:GREGORIAN
METHOD:PUBLISH
X-WR-CALNAME:Tom Harris PUR Consulting, LLC
X-ORIGINAL-URL:https://letstalkpur.com
X-WR-CALDESC:Events for Tom Harris PUR Consulting, LLC
REFRESH-INTERVAL;VALUE=DURATION:PT1H
X-Robots-Tag:noindex
X-PUBLISHED-TTL:PT1H
BEGIN:VTIMEZONE
TZID:UTC
BEGIN:STANDARD
TZOFFSETFROM:+0000
TZOFFSETTO:+0000
TZNAME:UTC
DTSTART:20230101T000000
END:STANDARD
END:VTIMEZONE
BEGIN:VEVENT
DTSTART;TZID=UTC:20260528T080000
DTEND;TZID=UTC:20260528T170000
DTSTAMP:20260420T031236
CREATED:20250403T224209Z
LAST-MODIFIED:20260105T205508Z
UID:2224-1779955200-1779987600@letstalkpur.com
SUMMARY:May BEAT Roof Energy Auditing Course
DESCRIPTION:
URL:https://letstalkpur.com/event/may-beat-roof-energy-auditing-course/
END:VEVENT
BEGIN:VEVENT
DTSTART;TZID=UTC:20260526T080000
DTEND;TZID=UTC:20260527T170000
DTSTAMP:20260420T031236
CREATED:20250103T000909Z
LAST-MODIFIED:20260105T205524Z
UID:2196-1779782400-1779901200@letstalkpur.com
SUMMARY:May BEAT Building Envelope Auditor Training
DESCRIPTION:
URL:https://letstalkpur.com/event/may-beat-building-envelope-auditor-training/
END:VEVENT
BEGIN:VEVENT
DTSTART;TZID=UTC:20260430T080000
DTEND;TZID=UTC:20260430T170000
DTSTAMP:20260420T031236
CREATED:20260105T190842Z
LAST-MODIFIED:20260105T203112Z
UID:2267-1777536000-1777568400@letstalkpur.com
SUMMARY:April BEAT Roof Energy Auditor Training
DESCRIPTION:
URL:https://letstalkpur.com/event/april-beat-roof-energy-auditor-training/
END:VEVENT
BEGIN:VEVENT
DTSTART;TZID=UTC:20260428T080000
DTEND;TZID=UTC:20260429T170000
DTSTAMP:20260420T031236
CREATED:20250102T235157Z
LAST-MODIFIED:20260105T203128Z
UID:2175-1777363200-1777482000@letstalkpur.com
SUMMARY:April BEAT Building Envelope Auditor Training
DESCRIPTION:
URL:https://letstalkpur.com/event/april-beat-building-envelope-auditor-training/
END:VEVENT
BEGIN:VEVENT
DTSTART;TZID=UTC:20260402T080000
DTEND;TZID=UTC:20260402T170000
DTSTAMP:20260420T031236
CREATED:20250102T235103Z
LAST-MODIFIED:20260105T201317Z
UID:2173-1775116800-1775149200@letstalkpur.com
SUMMARY:March BEAT Roof Energy Auditor Training
DESCRIPTION:
URL:https://letstalkpur.com/event/march-beat-roof-energy-auditor-training/
END:VEVENT
BEGIN:VEVENT
DTSTART;TZID=UTC:20260331T080000
DTEND;TZID=UTC:20260401T170000
DTSTAMP:20260420T031236
CREATED:20250102T235028Z
LAST-MODIFIED:20260105T201511Z
UID:2171-1774944000-1775062800@letstalkpur.com
SUMMARY:March BEAT Building Envelope Auditor Training
DESCRIPTION:
URL:https://letstalkpur.com/event/march-beat-building-envelope-auditor-training/
END:VEVENT
BEGIN:VEVENT
DTSTART;TZID=UTC:20260226T080000
DTEND;TZID=UTC:20260226T170000
DTSTAMP:20260420T031236
CREATED:20250102T234927Z
LAST-MODIFIED:20260105T202634Z
UID:2169-1772092800-1772125200@letstalkpur.com
SUMMARY:February BEAT Roof Energy Auditor Training
DESCRIPTION:
URL:https://letstalkpur.com/event/february-beat-roof-energy-auditor-training/
END:VEVENT
BEGIN:VEVENT
DTSTART;TZID=UTC:20260224T080000
DTEND;TZID=UTC:20260225T170000
DTSTAMP:20260420T031236
CREATED:20250102T234839Z
LAST-MODIFIED:20260105T202617Z
UID:2167-1771920000-1772038800@letstalkpur.com
SUMMARY:February BEAT Building Envelope Auditor Training
DESCRIPTION:
URL:https://letstalkpur.com/event/february-beat-building-envelope-auditor-training/
END:VEVENT
BEGIN:VEVENT
DTSTART;TZID=UTC:20260129T080000
DTEND;TZID=UTC:20260129T170000
DTSTAMP:20260420T031236
CREATED:20250102T234723Z
LAST-MODIFIED:20260105T202235Z
UID:2165-1769673600-1769706000@letstalkpur.com
SUMMARY:January BEAT Roof Energy Auditor Training
DESCRIPTION:
URL:https://letstalkpur.com/event/january-beat-roof-energy-auditor-training/
END:VEVENT
BEGIN:VEVENT
DTSTART;TZID=UTC:20260127T080000
DTEND;TZID=UTC:20260128T170000
DTSTAMP:20260420T031236
CREATED:20250102T233928Z
LAST-MODIFIED:20260105T202256Z
UID:2163-1769500800-1769619600@letstalkpur.com
SUMMARY:January BEAT Auditor Training
DESCRIPTION:
URL:https://letstalkpur.com/event/january-beat-auditor-training/
END:VEVENT
BEGIN:VEVENT
DTSTART;TZID=UTC:20240320T080000
DTEND;TZID=UTC:20240320T170000
DTSTAMP:20260420T031236
CREATED:20240319T232307Z
LAST-MODIFIED:20240319T232307Z
UID:1853-1710921600-1710954000@letstalkpur.com
SUMMARY:Structure Tech Podcast
DESCRIPTION:
URL:https://letstalkpur.com/event/structure-tech-podcast/
END:VEVENT
BEGIN:VEVENT
DTSTART;TZID=UTC:20240314T080000
DTEND;TZID=UTC:20240314T170000
DTSTAMP:20260420T031236
CREATED:20240319T232228Z
LAST-MODIFIED:20240319T232228Z
UID:1851-1710403200-1710435600@letstalkpur.com
SUMMARY:Walls and Ceilings Podcast
DESCRIPTION:
URL:https://letstalkpur.com/event/walls-and-ceilings-podcast/
END:VEVENT
BEGIN:VEVENT
DTSTART;TZID=UTC:20240303T080000
DTEND;TZID=UTC:20240304T170000
DTSTAMP:20260420T031236
CREATED:20240319T232047Z
LAST-MODIFIED:20240319T232047Z
UID:1847-1709452800-1709571600@letstalkpur.com
SUMMARY:SFWW Event - Las Vegas\, NV
DESCRIPTION:
URL:https://letstalkpur.com/event/sfww-event-las-vegas-nv/
END:VEVENT
BEGIN:VEVENT
DTSTART;TZID=UTC:20240302T080000
DTEND;TZID=UTC:20240307T170000
DTSTAMP:20260420T031236
CREATED:20240319T232136Z
LAST-MODIFIED:20240319T232136Z
UID:1849-1709366400-1709830800@letstalkpur.com
SUMMARY:SPFA Conference - Las Vegas\, NV
DESCRIPTION:
URL:https://letstalkpur.com/event/spfa-conference-las-vegas-nv/
END:VEVENT
END:VCALENDAR