BEGIN:VCALENDAR
VERSION:2.0
PRODID:-//Tom Harris PUR Consulting, LLC - ECPv6.15.20//NONSGML v1.0//EN
CALSCALE:GREGORIAN
METHOD:PUBLISH
X-ORIGINAL-URL:https://letstalkpur.com
X-WR-CALDESC:Events for Tom Harris PUR Consulting, LLC
REFRESH-INTERVAL;VALUE=DURATION:PT1H
X-Robots-Tag:noindex
X-PUBLISHED-TTL:PT1H
BEGIN:VTIMEZONE
TZID:UTC
BEGIN:STANDARD
TZOFFSETFROM:+0000
TZOFFSETTO:+0000
TZNAME:UTC
DTSTART:20250101T000000
END:STANDARD
END:VTIMEZONE
BEGIN:VEVENT
DTSTART;TZID=UTC:20260526T080000
DTEND;TZID=UTC:20260527T170000
DTSTAMP:20260419T194243
CREATED:20250103T000909Z
LAST-MODIFIED:20260105T205524Z
UID:2196-1779782400-1779901200@letstalkpur.com
SUMMARY:May BEAT Building Envelope Auditor Training
DESCRIPTION:
URL:https://letstalkpur.com/event/may-beat-building-envelope-auditor-training/
END:VEVENT
BEGIN:VEVENT
DTSTART;TZID=UTC:20260528T080000
DTEND;TZID=UTC:20260528T170000
DTSTAMP:20260419T194243
CREATED:20250403T224209Z
LAST-MODIFIED:20260105T205508Z
UID:2224-1779955200-1779987600@letstalkpur.com
SUMMARY:May BEAT Roof Energy Auditing Course
DESCRIPTION:
URL:https://letstalkpur.com/event/may-beat-roof-energy-auditing-course/
END:VEVENT
END:VCALENDAR