BEGIN:VCALENDAR
VERSION:2.0
PRODID:-//Tom Harris PUR Consulting, LLC - ECPv6.15.20//NONSGML v1.0//EN
CALSCALE:GREGORIAN
METHOD:PUBLISH
X-ORIGINAL-URL:https://letstalkpur.com
X-WR-CALDESC:Events for Tom Harris PUR Consulting, LLC
REFRESH-INTERVAL;VALUE=DURATION:PT1H
X-Robots-Tag:noindex
X-PUBLISHED-TTL:PT1H
BEGIN:VTIMEZONE
TZID:UTC
BEGIN:STANDARD
TZOFFSETFROM:+0000
TZOFFSETTO:+0000
TZNAME:UTC
DTSTART:20250101T000000
END:STANDARD
END:VTIMEZONE
BEGIN:VEVENT
DTSTART;TZID=UTC:20260630T080000
DTEND;TZID=UTC:20260701T170000
DTSTAMP:20260419T224507
CREATED:20250528T152409Z
LAST-MODIFIED:20260105T192357Z
UID:2230-1782806400-1782925200@letstalkpur.com
SUMMARY:June BEAT Building Envelope Auditor Training
DESCRIPTION:
URL:https://letstalkpur.com/event/june-beat-building-envelope-auditor-training/
END:VEVENT
BEGIN:VEVENT
DTSTART;TZID=UTC:20260702T080000
DTEND;TZID=UTC:20260702T120000
DTSTAMP:20260419T224507
CREATED:20250528T151946Z
LAST-MODIFIED:20260105T192541Z
UID:2228-1782979200-1782993600@letstalkpur.com
SUMMARY:June BEAT Roof Energy Auditor Training
DESCRIPTION:
URL:https://letstalkpur.com/event/june-beat-roof-energy-auditor-training/
END:VEVENT
BEGIN:VEVENT
DTSTART;TZID=UTC:20260728T090000
DTEND;TZID=UTC:20260729T170000
DTSTAMP:20260419T224507
CREATED:20240510T195444Z
LAST-MODIFIED:20260105T203415Z
UID:1913-1785229200-1785344400@letstalkpur.com
SUMMARY:July BEAT Building Envelope Auditor Training
DESCRIPTION:
URL:https://letstalkpur.com/event/july-beat-auditor-training/
END:VEVENT
BEGIN:VEVENT
DTSTART;TZID=UTC:20260730T080000
DTEND;TZID=UTC:20260730T170000
DTSTAMP:20260419T224507
CREATED:20250102T235646Z
LAST-MODIFIED:20260105T203456Z
UID:2182-1785398400-1785430800@letstalkpur.com
SUMMARY:July BEAT Roof Energy Auditor Training
DESCRIPTION:
URL:https://letstalkpur.com/event/july-beat-roof-energy-auditor-training/
END:VEVENT
END:VCALENDAR