BEGIN:VCALENDAR
VERSION:2.0
PRODID:-//Tom Harris PUR Consulting, LLC - ECPv6.15.20//NONSGML v1.0//EN
CALSCALE:GREGORIAN
METHOD:PUBLISH
X-WR-CALNAME:Tom Harris PUR Consulting, LLC
X-ORIGINAL-URL:https://letstalkpur.com
X-WR-CALDESC:Events for Tom Harris PUR Consulting, LLC
REFRESH-INTERVAL;VALUE=DURATION:PT1H
X-Robots-Tag:noindex
X-PUBLISHED-TTL:PT1H
BEGIN:VTIMEZONE
TZID:UTC
BEGIN:STANDARD
TZOFFSETFROM:+0000
TZOFFSETTO:+0000
TZNAME:UTC
DTSTART:20250101T000000
END:STANDARD
END:VTIMEZONE
BEGIN:VEVENT
DTSTART;TZID=UTC:20260929T080000
DTEND;TZID=UTC:20260930T170000
DTSTAMP:20260420T013851
CREATED:20250103T000023Z
LAST-MODIFIED:20260105T194909Z
UID:2188-1790668800-1790787600@letstalkpur.com
SUMMARY:September BEAT Roof Energy Auditor Training
DESCRIPTION:
URL:https://letstalkpur.com/event/september-beat-roof-energy-auditor-training/
END:VEVENT
END:VCALENDAR